BEGIN:VCALENDAR
VERSION:2.0
PRODID:-//Children First - ECPv6.15.20//NONSGML v1.0//EN
CALSCALE:GREGORIAN
METHOD:PUBLISH
X-ORIGINAL-URL:https://childrenfirstpa.org
X-WR-CALDESC:Events for Children First
REFRESH-INTERVAL;VALUE=DURATION:PT1H
X-Robots-Tag:noindex
X-PUBLISHED-TTL:PT1H
BEGIN:VTIMEZONE
TZID:America/New_York
BEGIN:DAYLIGHT
TZOFFSETFROM:-0500
TZOFFSETTO:-0400
TZNAME:EDT
DTSTART:20160313T070000
END:DAYLIGHT
BEGIN:STANDARD
TZOFFSETFROM:-0400
TZOFFSETTO:-0500
TZNAME:EST
DTSTART:20161106T060000
END:STANDARD
BEGIN:DAYLIGHT
TZOFFSETFROM:-0500
TZOFFSETTO:-0400
TZNAME:EDT
DTSTART:20170312T070000
END:DAYLIGHT
BEGIN:STANDARD
TZOFFSETFROM:-0400
TZOFFSETTO:-0500
TZNAME:EST
DTSTART:20171105T060000
END:STANDARD
BEGIN:DAYLIGHT
TZOFFSETFROM:-0500
TZOFFSETTO:-0400
TZNAME:EDT
DTSTART:20180311T070000
END:DAYLIGHT
BEGIN:STANDARD
TZOFFSETFROM:-0400
TZOFFSETTO:-0500
TZNAME:EST
DTSTART:20181104T060000
END:STANDARD
END:VTIMEZONE
BEGIN:VEVENT
DTSTART;TZID=America/New_York:20170917T100000
DTEND;TZID=America/New_York:20170917T170000
DTSTAMP:20260421T045844
CREATED:20170710T190201Z
LAST-MODIFIED:20170710T190957Z
UID:10000688-1505642400-1505667600@childrenfirstpa.org
SUMMARY:PCCY's Block By Block Party
DESCRIPTION:Using Minecraft to Imagine a Better World and Build It Together.\nPCCY\, the region’s most influential advocacy organization for children\, leverages the world’s greatest video game for the year’s most engaging fundraising event for kids. Join us on Saturday\, September 16\, 2017 or Sunday\, September 17\, 2017 at the University of the Sciences\, 43rd & Woodland Avenue for a fun\, creative and unique gaming opportunity. \nClick here for more information.
URL:https://childrenfirstpa.org/event/pccys-block-block-party-2/
LOCATION:University of the Sciences\, 4300 Woodland Avenue\, Philadelphia\, Pa\, 19104
GEO:39.9454463;-75.2085975
X-APPLE-STRUCTURED-LOCATION;VALUE=URI;X-ADDRESS=University of the Sciences 4300 Woodland Avenue Philadelphia Pa 19104;X-APPLE-RADIUS=500;X-TITLE=4300 Woodland Avenue:geo:-75.2085975,39.9454463
END:VEVENT
BEGIN:VEVENT
DTSTART;TZID=America/New_York:20170916T080000
DTEND;TZID=America/New_York:20170916T180000
DTSTAMP:20260421T045844
CREATED:20170710T190027Z
LAST-MODIFIED:20170710T190113Z
UID:10000687-1505548800-1505584800@childrenfirstpa.org
SUMMARY:PCCY's Block By Block Party
DESCRIPTION:Using Minecraft to Imagine a Better World and Build It Together.\nPCCY\, the region’s most influential advocacy organization for children\, leverages the world’s greatest video game for the year’s most engaging fundraising event for kids. Join us on Saturday\, September 16\, 2017 or Sunday\, September 17\, 2017 at the University of the Sciences\, 43rd & Woodland Avenue for a fun\, creative and unique gaming opportunity. \nClick here for more information.
URL:https://childrenfirstpa.org/event/pccys-block-block-party/
LOCATION:University of the Sciences\, 4300 Woodland Avenue\, Philadelphia\, Pa\, 19104
GEO:39.9454463;-75.2085975
X-APPLE-STRUCTURED-LOCATION;VALUE=URI;X-ADDRESS=University of the Sciences 4300 Woodland Avenue Philadelphia Pa 19104;X-APPLE-RADIUS=500;X-TITLE=4300 Woodland Avenue:geo:-75.2085975,39.9454463
END:VEVENT
END:VCALENDAR