BEGIN:VCALENDAR
VERSION:2.0
PRODID:-//Children First - ECPv6.15.20//NONSGML v1.0//EN
CALSCALE:GREGORIAN
METHOD:PUBLISH
X-WR-CALNAME:Children First
X-ORIGINAL-URL:https://childrenfirstpa.org
X-WR-CALDESC:Events for Children First
REFRESH-INTERVAL;VALUE=DURATION:PT1H
X-Robots-Tag:noindex
X-PUBLISHED-TTL:PT1H
BEGIN:VTIMEZONE
TZID:America/New_York
BEGIN:DAYLIGHT
TZOFFSETFROM:-0500
TZOFFSETTO:-0400
TZNAME:EDT
DTSTART:20170312T070000
END:DAYLIGHT
BEGIN:STANDARD
TZOFFSETFROM:-0400
TZOFFSETTO:-0500
TZNAME:EST
DTSTART:20171105T060000
END:STANDARD
BEGIN:DAYLIGHT
TZOFFSETFROM:-0500
TZOFFSETTO:-0400
TZNAME:EDT
DTSTART:20180311T070000
END:DAYLIGHT
BEGIN:STANDARD
TZOFFSETFROM:-0400
TZOFFSETTO:-0500
TZNAME:EST
DTSTART:20181104T060000
END:STANDARD
BEGIN:DAYLIGHT
TZOFFSETFROM:-0500
TZOFFSETTO:-0400
TZNAME:EDT
DTSTART:20190310T070000
END:DAYLIGHT
BEGIN:STANDARD
TZOFFSETFROM:-0400
TZOFFSETTO:-0500
TZNAME:EST
DTSTART:20191103T060000
END:STANDARD
BEGIN:DAYLIGHT
TZOFFSETFROM:-0500
TZOFFSETTO:-0400
TZNAME:EDT
DTSTART:20200308T070000
END:DAYLIGHT
BEGIN:STANDARD
TZOFFSETFROM:-0400
TZOFFSETTO:-0500
TZNAME:EST
DTSTART:20201101T060000
END:STANDARD
END:VTIMEZONE
BEGIN:VEVENT
DTSTART;TZID=America/New_York:20191025T090000
DTEND;TZID=America/New_York:20191025T230000
DTSTAMP:20260422T065906
CREATED:20191009T195106Z
LAST-MODIFIED:20191011T211827Z
UID:10000714-1571994000-1572044400@childrenfirstpa.org
SUMMARY:Public Forum: Solutions to Philadelphia's Stubborn Poverty Problem
DESCRIPTION:Join PCCY along with Resolve Philadelphia and The Philadelphia Inquirer for a discussion on the economic status of families in Philadelphia and the promising approaches to help every family get above water. \n“From Broke to Thriving” will take place on Friday\, October 25\, 2019 from 9am to 11am at The Philadelphia Inquirer\, 801 Market Street\, Philadelphia. \nClick here to RSVP
URL:https://childrenfirstpa.org/event/public-forum-solutions-philadelphia-stubborn-poverty-problem/
LOCATION:The Philadelphia Inquirer\, 801 Market Street\, Philadelphia\, PA\, 19106
GEO:39.9514459;-75.1540774
X-APPLE-STRUCTURED-LOCATION;VALUE=URI;X-ADDRESS=The Philadelphia Inquirer 801 Market Street Philadelphia PA 19106;X-APPLE-RADIUS=500;X-TITLE=801 Market Street:geo:-75.1540774,39.9514459
END:VEVENT
BEGIN:VEVENT
DTSTART;TZID=America/New_York:20191025T090000
DTEND;TZID=America/New_York:20191025T110000
DTSTAMP:20260422T065906
CREATED:20191009T191801Z
LAST-MODIFIED:20200921T152245Z
UID:10000713-1571994000-1572001200@childrenfirstpa.org
SUMMARY:Public Forum: Solutions to Philadelphia's Stubborn Poverty Problem
DESCRIPTION:Join PCCY along with Resolve Philadelphia and The Philadelphia Inquirer for a discussion on the economic status of families in Philadelphia and the promising approaches to help every family get above water. \n“From Broke to Thriving” will take place on Friday\, October 25\, 2019 from 9am to 11am at The Philadelphia Inquirer\, 801 Market Street\, Philadelphia. \nClick here to RSVP \n \n 
URL:https://childrenfirstpa.org/event/public-forum-solutions-philadelphia-stubborn-poverty-problem-10-25-2019/
LOCATION:The Philadelphia Inquirer\, 801 Market Street\, Philadelphia\, PA\, 19106
GEO:39.9514459;-75.1540774
X-APPLE-STRUCTURED-LOCATION;VALUE=URI;X-ADDRESS=The Philadelphia Inquirer 801 Market Street Philadelphia PA 19106;X-APPLE-RADIUS=500;X-TITLE=801 Market Street:geo:-75.1540774,39.9514459
END:VEVENT
BEGIN:VEVENT
DTSTART;TZID=America/New_York:20181015T180000
DTEND;TZID=America/New_York:20181015T200000
DTSTAMP:20260422T065906
CREATED:20181009T020922Z
LAST-MODIFIED:20181009T021137Z
UID:10000708-1539626400-1539633600@childrenfirstpa.org
SUMMARY:Women In The Workforce
DESCRIPTION:
URL:https://childrenfirstpa.org/event/women-in-the-workforce/
LOCATION:The Philadelphia Inquirer\, 801 Market Street\, Philadelphia\, PA\, 19106
GEO:39.9514459;-75.1540774
X-APPLE-STRUCTURED-LOCATION;VALUE=URI;X-ADDRESS=The Philadelphia Inquirer 801 Market Street Philadelphia PA 19106;X-APPLE-RADIUS=500;X-TITLE=801 Market Street:geo:-75.1540774,39.9514459
END:VEVENT
END:VCALENDAR