BEGIN:VCALENDAR
VERSION:2.0
PRODID:-//Children First - ECPv6.15.20//NONSGML v1.0//EN
CALSCALE:GREGORIAN
METHOD:PUBLISH
X-WR-CALNAME:Children First
X-ORIGINAL-URL:https://childrenfirstpa.org
X-WR-CALDESC:Events for Children First
REFRESH-INTERVAL;VALUE=DURATION:PT1H
X-Robots-Tag:noindex
X-PUBLISHED-TTL:PT1H
BEGIN:VTIMEZONE
TZID:America/New_York
BEGIN:DAYLIGHT
TZOFFSETFROM:-0500
TZOFFSETTO:-0400
TZNAME:EDT
DTSTART:20130310T070000
END:DAYLIGHT
BEGIN:STANDARD
TZOFFSETFROM:-0400
TZOFFSETTO:-0500
TZNAME:EST
DTSTART:20131103T060000
END:STANDARD
BEGIN:DAYLIGHT
TZOFFSETFROM:-0500
TZOFFSETTO:-0400
TZNAME:EDT
DTSTART:20140309T070000
END:DAYLIGHT
BEGIN:STANDARD
TZOFFSETFROM:-0400
TZOFFSETTO:-0500
TZNAME:EST
DTSTART:20141102T060000
END:STANDARD
BEGIN:DAYLIGHT
TZOFFSETFROM:-0500
TZOFFSETTO:-0400
TZNAME:EDT
DTSTART:20150308T070000
END:DAYLIGHT
BEGIN:STANDARD
TZOFFSETFROM:-0400
TZOFFSETTO:-0500
TZNAME:EST
DTSTART:20151101T060000
END:STANDARD
BEGIN:DAYLIGHT
TZOFFSETFROM:-0500
TZOFFSETTO:-0400
TZNAME:EDT
DTSTART:20160313T070000
END:DAYLIGHT
BEGIN:STANDARD
TZOFFSETFROM:-0400
TZOFFSETTO:-0500
TZNAME:EST
DTSTART:20161106T060000
END:STANDARD
END:VTIMEZONE
BEGIN:VEVENT
DTSTART;TZID=America/New_York:20150422T080000
DTEND;TZID=America/New_York:20150424T170000
DTSTAMP:20260423T045423
CREATED:20150129T155332Z
LAST-MODIFIED:20150415T133704Z
UID:10000585-1429689600-1429894800@childrenfirstpa.org
SUMMARY:Young Voters in the Capitol
DESCRIPTION:Join your neighbors\, meet your local legislators and make a difference as we fight for a fair education funding formula in this year’s state budget.  We’ll provide: a brief training\, materials\, lunch and transportation to and from the Capitol and we’ll even schedule visits with legislators for you! \nIf you need transportation let us know!  We will be departing from in front of the United Way Building at 1709 Benjamin Franklin Parkway promptly at 8am.  We will return to Philly by approximately 4:30pm. \nIf you plan to meet up with us in Harrisburg\, we will meet in the Capitol by 10:30am. \nWe will wrap up the day back in Philadelphia with a happy hour at Field House (1150 Filbert St.) from 5-7 pm.  We hope you can join us!
URL:https://childrenfirstpa.org/event/education-budget-action-day-422/
LOCATION:Pennsylvania State Capitol\, N. 3rd St.\, Harrisburg\, PA\, 17120\, United States
GEO:40.2855072;-76.8987331
X-APPLE-STRUCTURED-LOCATION;VALUE=URI;X-ADDRESS=Pennsylvania State Capitol N. 3rd St. Harrisburg PA 17120 United States;X-APPLE-RADIUS=500;X-TITLE=N. 3rd St.:geo:-76.8987331,40.2855072
END:VEVENT
BEGIN:VEVENT
DTSTART;TZID=America/New_York:20150421T070000
DTEND;TZID=America/New_York:20150421T160000
DTSTAMP:20260423T045423
CREATED:20150403T194515Z
LAST-MODIFIED:20150407T005457Z
UID:10000526-1429599600-1429632000@childrenfirstpa.org
SUMMARY:Montco ECE Capitol Caravan for Pre-K
DESCRIPTION:Join Pre-K for PA for a Capitol Caravan to Harrisburg! Any supporters from the region are free to join us\, but especially those from Montgomery County. We’ll work in teams to educate elected leaders about the urgent need for more affordable\, quality early education. We will carpool and meet with our local legislators\, and be home by late afternoon.
URL:https://childrenfirstpa.org/event/montco-ece-capitol-caravan-pre-k/
LOCATION:Pennsylvania State Capitol\, N. 3rd St.\, Harrisburg\, PA\, 17120\, United States
GEO:40.2855072;-76.8987331
X-APPLE-STRUCTURED-LOCATION;VALUE=URI;X-ADDRESS=Pennsylvania State Capitol N. 3rd St. Harrisburg PA 17120 United States;X-APPLE-RADIUS=500;X-TITLE=N. 3rd St.:geo:-76.8987331,40.2855072
END:VEVENT
BEGIN:VEVENT
DTSTART;TZID=America/New_York:20150414T080000
DTEND;TZID=America/New_York:20150414T170000
DTSTAMP:20260423T045423
CREATED:20150129T155227Z
LAST-MODIFIED:20150129T155227Z
UID:10000584-1428998400-1429030800@childrenfirstpa.org
SUMMARY:Education Budget Action Day - 4/14
DESCRIPTION:Join your neighbors\, meet your local legislators and make a difference as we fight for a fair education funding formula in this year’s state budget.  We’ll provide: a brief training\, materials\, lunch and transportation to and from the Capitol and we’ll even schedule visits with legislators for you! \nIf you need transportation let us know!  We will be departing from in front of the United Way Building at 1709 Benjamin Franklin Parkway promptly at 8am.  We will return to Philly by approximately 4:30pm. \nIf you plan to meet up with us in Harrisburg\, we will meet in the Capitol by 10:30am.
URL:https://childrenfirstpa.org/event/education-budget-action-day-414/
LOCATION:Pennsylvania State Capitol\, N. 3rd St.\, Harrisburg\, PA\, 17120\, United States
GEO:40.2855072;-76.8987331
X-APPLE-STRUCTURED-LOCATION;VALUE=URI;X-ADDRESS=Pennsylvania State Capitol N. 3rd St. Harrisburg PA 17120 United States;X-APPLE-RADIUS=500;X-TITLE=N. 3rd St.:geo:-76.8987331,40.2855072
END:VEVENT
BEGIN:VEVENT
DTSTART;TZID=America/New_York:20150224T080000
DTEND;TZID=America/New_York:20150224T170000
DTSTAMP:20260423T045423
CREATED:20150129T155059Z
LAST-MODIFIED:20150129T155059Z
UID:10000583-1424764800-1424797200@childrenfirstpa.org
SUMMARY:Education Budget Action Day - 2/24
DESCRIPTION:Join your neighbors\, meet your local legislators and make a difference as we fight for a fair education funding formula in this year’s state budget.  We’ll provide: a brief training\, materials\, lunch and transportation to and from the Capitol and we’ll even schedule visits with legislators for you! \nIf you need transportation let us know!  We will be departing from in front of the United Way Building at 1709 Benjamin Franklin Parkway promptly at 8am.  We will return to Philly by approximately 4:30pm. \nIf you plan to meet up with us in Harrisburg\, we will meet in the Capitol by 10:30am.
URL:https://childrenfirstpa.org/event/education-budget-action-day-224/
LOCATION:Pennsylvania State Capitol\, N. 3rd St.\, Harrisburg\, PA\, 17120\, United States
GEO:40.2855072;-76.8987331
X-APPLE-STRUCTURED-LOCATION;VALUE=URI;X-ADDRESS=Pennsylvania State Capitol N. 3rd St. Harrisburg PA 17120 United States;X-APPLE-RADIUS=500;X-TITLE=N. 3rd St.:geo:-76.8987331,40.2855072
END:VEVENT
BEGIN:VEVENT
DTSTART;TZID=America/New_York:20150204T080000
DTEND;TZID=America/New_York:20150204T170000
DTSTAMP:20260423T045423
CREATED:20150129T154824Z
LAST-MODIFIED:20150129T154824Z
UID:10000582-1423036800-1423069200@childrenfirstpa.org
SUMMARY:Education Budget Action Day - 2/4
DESCRIPTION:Join your neighbors\, meet your local legislators and make a difference as we fight for a fair education funding formula in this year’s state budget.  We’ll provide: a brief training\, materials\, lunch and transportation to and from the Capitol and we’ll even schedule visits with legislators for you! \nIf you need transportation let us know!  We will be departing from in front of the United Way Building at 1709 Benjamin Franklin Parkway promptly at 8am.  We will return to Philly by approximately 4:30pm. \nIf you plan to meet up with us in Harrisburg\, we will meet in the Capitol by 10:30am.
URL:https://childrenfirstpa.org/event/education-budget-action-day-24/
LOCATION:Pennsylvania State Capitol\, N. 3rd St.\, Harrisburg\, PA\, 17120\, United States
GEO:40.2855072;-76.8987331
X-APPLE-STRUCTURED-LOCATION;VALUE=URI;X-ADDRESS=Pennsylvania State Capitol N. 3rd St. Harrisburg PA 17120 United States;X-APPLE-RADIUS=500;X-TITLE=N. 3rd St.:geo:-76.8987331,40.2855072
END:VEVENT
BEGIN:VEVENT
DTSTART;TZID=America/New_York:20150121T080000
DTEND;TZID=America/New_York:20150630T170000
DTSTAMP:20260423T045423
CREATED:20150204T185951Z
LAST-MODIFIED:20150121T220413Z
UID:10000589-1421827200-1435683600@childrenfirstpa.org
SUMMARY:Education Budget Action Days - 2015
DESCRIPTION:PCCY Action Days in Harrisburg: Be a voice for students in the State Capitol! \nJoin your neighbors\, meet your local legislators and make a difference as we fight for a fair education funding formula in this year’s state budget. \nChoose a day and we’ll provide: a brief training\, materials\, lunch and transportation to and from the Capitol and we’ll even schedule visits with legislators for you! \n\nFebruary 4 (Wednesday)\nFebruary 24 (Tuesday)\nApril 14 (Tuesday)\nApril 22 (Wednesday)\nMay 13 (Wednesday)\nJune 23 (Tuesday)\nJune 30 (Tuesday\n\nIf you are joining us on the bus\, they will be departing from in front of the United Way Building at 1709 Benjamin Franklin Parkway promptly at 8am.  We will return to Philly by approximately 4:30pm.  If you plan to meet up with us in Harrisburg\, we will meet in the Capitol by 10:30am. \nThe week of March 9th is the local week of action.  We encourage you to visit your legislator’s home office or make phone calls to their office and  collect petition signatures. \n  \nClick here to get the full list of Education Budget Action Days
URL:https://childrenfirstpa.org/event/education-budget-action-days-2015/
LOCATION:Pennsylvania State Capitol\, N. 3rd St.\, Harrisburg\, PA\, 17120\, United States
GEO:40.2855072;-76.8987331
X-APPLE-STRUCTURED-LOCATION;VALUE=URI;X-ADDRESS=Pennsylvania State Capitol N. 3rd St. Harrisburg PA 17120 United States;X-APPLE-RADIUS=500;X-TITLE=N. 3rd St.:geo:-76.8987331,40.2855072
END:VEVENT
BEGIN:VEVENT
DTSTART;TZID=America/New_York:20141006T123000
DTEND;TZID=America/New_York:20141006T143000
DTSTAMP:20260423T045423
CREATED:20140926T201655Z
LAST-MODIFIED:20140929T203923Z
UID:10000553-1412598600-1412605800@childrenfirstpa.org
SUMMARY:Fair School Funding Campaign Launch
DESCRIPTION:Please join PCCY and more than 40 organizations for the launch of the Fair School Funding campaign.  Over the next two years\, this campaign will work to ensure that schools across Pennsylvania receive predictable\, equitable and adequate state funding. \nThe campaign launch will begin with a press conference at 12:30pm in the Main Rotunda of the Capitol Building in Harrisburg\, followed by visits to legislators informing them of our efforts.  We will plan to leave Harrisburg by 2:30pm. \nPlease RSVP by October 1st to let us know if you will meet us there or if you need a ride or if you can offer a ride!
URL:https://childrenfirstpa.org/event/fair-school-funding-campaign-launch/
LOCATION:Pennsylvania State Capitol\, N. 3rd St.\, Harrisburg\, PA\, 17120\, United States
ORGANIZER;CN="Public Citizens for Children and Youth (PCCY)":MAILTO:info@childrenfirstpa.com
GEO:40.2855072;-76.8987331
X-APPLE-STRUCTURED-LOCATION;VALUE=URI;X-ADDRESS=Pennsylvania State Capitol N. 3rd St. Harrisburg PA 17120 United States;X-APPLE-RADIUS=500;X-TITLE=N. 3rd St.:geo:-76.8987331,40.2855072
END:VEVENT
END:VCALENDAR