BEGIN:VCALENDAR
VERSION:2.0
PRODID:-//Children First - ECPv6.15.20//NONSGML v1.0//EN
CALSCALE:GREGORIAN
METHOD:PUBLISH
X-WR-CALNAME:Children First
X-ORIGINAL-URL:https://childrenfirstpa.org
X-WR-CALDESC:Events for Children First
REFRESH-INTERVAL;VALUE=DURATION:PT1H
X-Robots-Tag:noindex
X-PUBLISHED-TTL:PT1H
BEGIN:VTIMEZONE
TZID:America/New_York
BEGIN:DAYLIGHT
TZOFFSETFROM:-0500
TZOFFSETTO:-0400
TZNAME:EDT
DTSTART:20240310T070000
END:DAYLIGHT
BEGIN:STANDARD
TZOFFSETFROM:-0400
TZOFFSETTO:-0500
TZNAME:EST
DTSTART:20241103T060000
END:STANDARD
BEGIN:DAYLIGHT
TZOFFSETFROM:-0500
TZOFFSETTO:-0400
TZNAME:EDT
DTSTART:20250309T070000
END:DAYLIGHT
BEGIN:STANDARD
TZOFFSETFROM:-0400
TZOFFSETTO:-0500
TZNAME:EST
DTSTART:20251102T060000
END:STANDARD
BEGIN:DAYLIGHT
TZOFFSETFROM:-0500
TZOFFSETTO:-0400
TZNAME:EDT
DTSTART:20260308T070000
END:DAYLIGHT
BEGIN:STANDARD
TZOFFSETFROM:-0400
TZOFFSETTO:-0500
TZNAME:EST
DTSTART:20261101T060000
END:STANDARD
END:VTIMEZONE
BEGIN:VEVENT
DTSTART;TZID=America/New_York:20250929T170000
DTEND;TZID=America/New_York:20250929T190000
DTSTAMP:20260421T082757
CREATED:20250905T151959Z
LAST-MODIFIED:20250924T154441Z
UID:10000818-1759165200-1759172400@childrenfirstpa.org
SUMMARY:Indiana County Community Dialogue for Youth Mental Health
DESCRIPTION:Join families\, youth\, educators\, health providers\, and community leaders for a solutions-focused conversation on strengthening children’s mental health in PA. We are interested in hearing your experiences and learning what your community needs now to help children thrive. \nThis is a free\, family friendly event.
URL:https://childrenfirstpa.org/event/indiana-county-community-dialogue-for-stronger-childrens-mental-health/
LOCATION:Indiana University of Pennsylvania\, Kovalchick Campus\, 711 Pratt Drive\, Indiana\, PA\, 15701\, United States
ATTACH;FMTTYPE=image/png:https://childrenfirstpa.org/wp-content/uploads/2025/09/SMBF-Listening-Session-Graphics.png
ORGANIZER;CN="Strong Minds%2C Bright Futures Coalition":MAILTO:info@strongmindspa.org
END:VEVENT
END:VCALENDAR