BEGIN:VCALENDAR
VERSION:2.0
PRODID:-//Children First - ECPv6.15.20//NONSGML v1.0//EN
CALSCALE:GREGORIAN
METHOD:PUBLISH
X-WR-CALNAME:Children First
X-ORIGINAL-URL:https://childrenfirstpa.org
X-WR-CALDESC:Events for Children First
REFRESH-INTERVAL;VALUE=DURATION:PT1H
X-Robots-Tag:noindex
X-PUBLISHED-TTL:PT1H
BEGIN:VTIMEZONE
TZID:America/New_York
BEGIN:DAYLIGHT
TZOFFSETFROM:-0500
TZOFFSETTO:-0400
TZNAME:EDT
DTSTART:20210314T070000
END:DAYLIGHT
BEGIN:STANDARD
TZOFFSETFROM:-0400
TZOFFSETTO:-0500
TZNAME:EST
DTSTART:20211107T060000
END:STANDARD
BEGIN:DAYLIGHT
TZOFFSETFROM:-0500
TZOFFSETTO:-0400
TZNAME:EDT
DTSTART:20220313T070000
END:DAYLIGHT
BEGIN:STANDARD
TZOFFSETFROM:-0400
TZOFFSETTO:-0500
TZNAME:EST
DTSTART:20221106T060000
END:STANDARD
BEGIN:DAYLIGHT
TZOFFSETFROM:-0500
TZOFFSETTO:-0400
TZNAME:EDT
DTSTART:20230312T070000
END:DAYLIGHT
BEGIN:STANDARD
TZOFFSETFROM:-0400
TZOFFSETTO:-0500
TZNAME:EST
DTSTART:20231105T060000
END:STANDARD
BEGIN:DAYLIGHT
TZOFFSETFROM:-0500
TZOFFSETTO:-0400
TZNAME:EDT
DTSTART:20240310T070000
END:DAYLIGHT
BEGIN:STANDARD
TZOFFSETFROM:-0400
TZOFFSETTO:-0500
TZNAME:EST
DTSTART:20241103T060000
END:STANDARD
END:VTIMEZONE
BEGIN:VEVENT
DTSTART;TZID=America/New_York:20230518T173000
DTEND;TZID=America/New_York:20230518T203000
DTSTAMP:20260421T063342
CREATED:20230321T153855Z
LAST-MODIFIED:20230321T153947Z
UID:10000752-1684431000-1684441800@childrenfirstpa.org
SUMMARY:Celebration of the 2023 Champion for Children
DESCRIPTION:  \n\n\n\n\n\n\n\nThe Celebration of the 2022 Children First “Champion for Children” \nhonoring \nKelvin A. Jeremiah\, President and CEO\, The Philadelphia Housing Authority\n\n \nOn the evening of Thursday\, May 18\, 2023\, Children First will shine a spotlight on Kelvin A. Jeremiah\, President and CEO of the Philadelphia Housing Authority and a transformative leader who puts children first\, knowing that it takes more than just a physical place to live for children to thrive. \nKelvin has gone above and beyond to make the lives of nearly 25\,000 children living in PHA developments and apartments better. His mission to help children expands beyond the walls of the houses managed by PHA\, making him a real standout. He instills pride in the children living in PHA in small ways like making sure they start school with a bundle of brand-new school supplies and backpacks. And in big ways like raising $2.5 million dollars for college scholarships. Thanks to his leadership\, 645 youth and young adults living in a PHA home could afford college. He opened a high school that was shuttered by the Philadelphia School District in one of the most distressed neighborhoods in the city and a Youth and Family Center that provides services for an entire family to become self-sufficient. \nWe know that there are many worthy causes and amazing regional leaders to honor\, but we urge you to join Children First and our special Celebration host\, Estelle Richman\, to honor Kelvin A. Jeremiah\, President and CEO of the Philadelphia Housing Authority (PHA) as our 2023 Champion for Children for the work he’s led at the PHA to improve the lives of children living in public housing. In doing so\, you’ll be among a growing list of corporations\, organizations and individuals that are actively improving the future for children. \nTickets and Sponsorship\n\nClick here to purchase TICKETS \nClick here to purchase Individual Sponsorships \nClick here for Corporate Sponsorship opportunities \n\n\n\n\n\n\n\n 
URL:https://childrenfirstpa.org/event/celebration-of-the-2023-champion-for-children/
LOCATION:Fairmount Water Works\, 640 Waterworks Dr\, Philadelphia\, PA\, 19130
GEO:39.9660351;-75.1834936
X-APPLE-STRUCTURED-LOCATION;VALUE=URI;X-ADDRESS=Fairmount Water Works 640 Waterworks Dr Philadelphia PA 19130;X-APPLE-RADIUS=500;X-TITLE=640 Waterworks Dr:geo:-75.1834936,39.9660351
END:VEVENT
BEGIN:VEVENT
DTSTART;TZID=America/New_York:20220510T180000
DTEND;TZID=America/New_York:20220510T203000
DTSTAMP:20260421T063342
CREATED:20220209T172024Z
LAST-MODIFIED:20220502T160807Z
UID:10000744-1652205600-1652214600@childrenfirstpa.org
SUMMARY:2022 Celebration of the Children First Champion for Children
DESCRIPTION:The Celebration of the 2022 Children First \n“Champion for Children“ \nhonoring \nDalila Wilson-Scott\, EVP and Chief Diversity Officer at Comcast Corporation and President\, Comcast NBCUniversal Foundation\n\n \nOn the evening of Tuesday\, May 10\, 2022\, we will shine a spotlight on the visionary commitment of Comcast NBCUniversal\, best exemplified by the company’s response to the pandemic. \nWe know that there are many worthy causes and amazing regional leaders to honor\, but we urge you to join us in honoring Comcast NBCUniversal and supporting our ongoing work to put Children First by becoming a sponsor or purchasing a ticket to this important event.  In doing so you’ll be among a growing list of corporations\, organizations and individuals that are actively improving the future for children.
URL:https://childrenfirstpa.org/event/2022-celebration-of-the-children-first-champion-for-children/
LOCATION:Fairmount Water Works\, 640 Waterworks Dr\, Philadelphia\, PA\, 19130
GEO:39.9660351;-75.1834936
X-APPLE-STRUCTURED-LOCATION;VALUE=URI;X-ADDRESS=Fairmount Water Works 640 Waterworks Dr Philadelphia PA 19130;X-APPLE-RADIUS=500;X-TITLE=640 Waterworks Dr:geo:-75.1834936,39.9660351
END:VEVENT
END:VCALENDAR