BEGIN:VCALENDAR
VERSION:2.0
PRODID:-//Children First - ECPv6.15.20//NONSGML v1.0//EN
CALSCALE:GREGORIAN
METHOD:PUBLISH
X-WR-CALNAME:Children First
X-ORIGINAL-URL:https://childrenfirstpa.org
X-WR-CALDESC:Events for Children First
REFRESH-INTERVAL;VALUE=DURATION:PT1H
X-Robots-Tag:noindex
X-PUBLISHED-TTL:PT1H
BEGIN:VTIMEZONE
TZID:America/New_York
BEGIN:DAYLIGHT
TZOFFSETFROM:-0500
TZOFFSETTO:-0400
TZNAME:EDT
DTSTART:20160313T070000
END:DAYLIGHT
BEGIN:STANDARD
TZOFFSETFROM:-0400
TZOFFSETTO:-0500
TZNAME:EST
DTSTART:20161106T060000
END:STANDARD
BEGIN:DAYLIGHT
TZOFFSETFROM:-0500
TZOFFSETTO:-0400
TZNAME:EDT
DTSTART:20170312T070000
END:DAYLIGHT
BEGIN:STANDARD
TZOFFSETFROM:-0400
TZOFFSETTO:-0500
TZNAME:EST
DTSTART:20171105T060000
END:STANDARD
BEGIN:DAYLIGHT
TZOFFSETFROM:-0500
TZOFFSETTO:-0400
TZNAME:EDT
DTSTART:20180311T070000
END:DAYLIGHT
BEGIN:STANDARD
TZOFFSETFROM:-0400
TZOFFSETTO:-0500
TZNAME:EST
DTSTART:20181104T060000
END:STANDARD
END:VTIMEZONE
BEGIN:VEVENT
DTSTART;TZID=America/New_York:20170124T180000
DTEND;TZID=America/New_York:20170124T200000
DTSTAMP:20260422T212637
CREATED:20170113T011719Z
LAST-MODIFIED:20170113T012406Z
UID:10000665-1485280800-1485288000@childrenfirstpa.org
SUMMARY:Town Hall: Needs of Immigrant Students
DESCRIPTION:On January 24th\, City Council\, the School District of Philadelphia\, the Faculty and Staff Federation of Community College of Philadelphia\, The Pennsylvania Immigration and Citizenship Coalition (PICC)\, United Voices for Philadelphia\, and Juntos will host a Town Hall to discuss the needs of immigrant students as well as budget priorities to support these communities. \nParents\, students\, and community members are encouraged to come to the Community College of Philadelphia (1700 Spring Garden Street\, Phila.\, 19130) on January 24th at 6:00pm to share their stories and to weigh in on the needs of immigrant students. \nDownload and share these flyers: \n\nEnglish\nSpanish\nChinese\nVietnamese\nFrench\n\nTo request fliers\, or for more details\, please contact Steve Paul at 215-686-8350. \nNOTE: This is NOT a PCCY Event but we are happy to let you know about this most important discussion.
URL:https://childrenfirstpa.org/event/town-hall-needs-immigrant-students/
LOCATION:Community College of Philadelphia\, 1700 Spring Garden Street\, Philadelphia\, PA\, 19130\, United States
GEO:39.9627561;-75.1665253
X-APPLE-STRUCTURED-LOCATION;VALUE=URI;X-ADDRESS=Community College of Philadelphia 1700 Spring Garden Street Philadelphia PA 19130 United States;X-APPLE-RADIUS=500;X-TITLE=1700 Spring Garden Street:geo:-75.1665253,39.9627561
END:VEVENT
END:VCALENDAR